BEGIN:VCALENDAR
VERSION:2.0
PRODID:-//Thy Word Network - ECPv6.15.20//NONSGML v1.0//EN
CALSCALE:GREGORIAN
METHOD:PUBLISH
X-ORIGINAL-URL:https://thyword.media
X-WR-CALDESC:Events for Thy Word Network
REFRESH-INTERVAL;VALUE=DURATION:PT1H
X-Robots-Tag:noindex
X-PUBLISHED-TTL:PT1H
BEGIN:VTIMEZONE
TZID:America/Chicago
BEGIN:DAYLIGHT
TZOFFSETFROM:-0600
TZOFFSETTO:-0500
TZNAME:CDT
DTSTART:20190310T080000
END:DAYLIGHT
BEGIN:STANDARD
TZOFFSETFROM:-0500
TZOFFSETTO:-0600
TZNAME:CST
DTSTART:20191103T070000
END:STANDARD
BEGIN:DAYLIGHT
TZOFFSETFROM:-0600
TZOFFSETTO:-0500
TZNAME:CDT
DTSTART:20200308T080000
END:DAYLIGHT
BEGIN:STANDARD
TZOFFSETFROM:-0500
TZOFFSETTO:-0600
TZNAME:CST
DTSTART:20201101T070000
END:STANDARD
BEGIN:DAYLIGHT
TZOFFSETFROM:-0600
TZOFFSETTO:-0500
TZNAME:CDT
DTSTART:20210314T080000
END:DAYLIGHT
BEGIN:STANDARD
TZOFFSETFROM:-0500
TZOFFSETTO:-0600
TZNAME:CST
DTSTART:20211107T070000
END:STANDARD
END:VTIMEZONE
BEGIN:VEVENT
DTSTART;TZID=America/Chicago:20200327T190000
DTEND;TZID=America/Chicago:20200328T190000
DTSTAMP:20260424T094545
CREATED:20200311T150410Z
LAST-MODIFIED:20200311T150410Z
UID:3654-1585335600-1585422000@thyword.media
SUMMARY:Pastor Terry Warren Anniversary Service
DESCRIPTION:The Jesus Name Pentecostal Church\, located at 209 N. Monroe St. in Sturgis KY will be having a one year anniversary service for Pastor Terry Warren on Friday March the 27th and Saturday the 28th at 7pm on both nights. All are welcome to attend this free service. For more information please call (270) 333-9210.
URL:https://thyword.media/event/pastor-terry-warren-anniversary-service/
LOCATION:Jesus Name Pentecostal Church\, 209 N. Monroe St\, Sturgis\, KY\, 42459
GEO:37.5426725;-87.9835087
X-APPLE-STRUCTURED-LOCATION;VALUE=URI;X-ADDRESS=Jesus Name Pentecostal Church 209 N. Monroe St Sturgis KY 42459;X-APPLE-RADIUS=500;X-TITLE=209 N. Monroe St:geo:-87.9835087,37.5426725
END:VEVENT
END:VCALENDAR