BEGIN:VCALENDAR
VERSION:2.0
PRODID:-//Thy Word Network - ECPv6.15.20//NONSGML v1.0//EN
CALSCALE:GREGORIAN
METHOD:PUBLISH
X-WR-CALNAME:Thy Word Network
X-ORIGINAL-URL:https://thyword.media
X-WR-CALDESC:Events for Thy Word Network
REFRESH-INTERVAL;VALUE=DURATION:PT1H
X-Robots-Tag:noindex
X-PUBLISHED-TTL:PT1H
BEGIN:VTIMEZONE
TZID:America/Chicago
BEGIN:DAYLIGHT
TZOFFSETFROM:-0600
TZOFFSETTO:-0500
TZNAME:CDT
DTSTART:20190310T080000
END:DAYLIGHT
BEGIN:STANDARD
TZOFFSETFROM:-0500
TZOFFSETTO:-0600
TZNAME:CST
DTSTART:20191103T070000
END:STANDARD
BEGIN:DAYLIGHT
TZOFFSETFROM:-0600
TZOFFSETTO:-0500
TZNAME:CDT
DTSTART:20200308T080000
END:DAYLIGHT
BEGIN:STANDARD
TZOFFSETFROM:-0500
TZOFFSETTO:-0600
TZNAME:CST
DTSTART:20201101T070000
END:STANDARD
BEGIN:DAYLIGHT
TZOFFSETFROM:-0600
TZOFFSETTO:-0500
TZNAME:CDT
DTSTART:20210314T080000
END:DAYLIGHT
BEGIN:STANDARD
TZOFFSETFROM:-0500
TZOFFSETTO:-0600
TZNAME:CST
DTSTART:20211107T070000
END:STANDARD
END:VTIMEZONE
BEGIN:VEVENT
DTSTART;TZID=America/Chicago:20200324T180000
DTEND;TZID=America/Chicago:20200324T180000
DTSTAMP:20260424T071028
CREATED:20200312T203127Z
LAST-MODIFIED:20200312T203127Z
UID:3663-1585072800-1585072800@thyword.media
SUMMARY:Community Church Dinner
DESCRIPTION:There will be a community dinner church held on Tuesday the 24th starting at 6PM at the Highland Woods Community Center located at 1377 S. Hart Street in Vincennes\, IN. For more information please contact Holly Hadra at 618-553-8996.
URL:https://thyword.media/event/community-church-dinner/
LOCATION:Highland Woods Community Center\, 1377 Hart St\, Vincennes\, IN
GEO:38.6725493;-87.5182263
X-APPLE-STRUCTURED-LOCATION;VALUE=URI;X-ADDRESS=Highland Woods Community Center 1377 Hart St Vincennes IN;X-APPLE-RADIUS=500;X-TITLE=1377 Hart St:geo:-87.5182263,38.6725493
END:VEVENT
END:VCALENDAR