BEGIN:VCALENDAR
VERSION:2.0
PRODID:-//Thy Word Network - ECPv6.15.20//NONSGML v1.0//EN
CALSCALE:GREGORIAN
METHOD:PUBLISH
X-WR-CALNAME:Thy Word Network
X-ORIGINAL-URL:https://thyword.media
X-WR-CALDESC:Events for Thy Word Network
REFRESH-INTERVAL;VALUE=DURATION:PT1H
X-Robots-Tag:noindex
X-PUBLISHED-TTL:PT1H
BEGIN:VTIMEZONE
TZID:America/Chicago
BEGIN:DAYLIGHT
TZOFFSETFROM:-0600
TZOFFSETTO:-0500
TZNAME:CDT
DTSTART:20190310T080000
END:DAYLIGHT
BEGIN:STANDARD
TZOFFSETFROM:-0500
TZOFFSETTO:-0600
TZNAME:CST
DTSTART:20191103T070000
END:STANDARD
BEGIN:DAYLIGHT
TZOFFSETFROM:-0600
TZOFFSETTO:-0500
TZNAME:CDT
DTSTART:20200308T080000
END:DAYLIGHT
BEGIN:STANDARD
TZOFFSETFROM:-0500
TZOFFSETTO:-0600
TZNAME:CST
DTSTART:20201101T070000
END:STANDARD
BEGIN:DAYLIGHT
TZOFFSETFROM:-0600
TZOFFSETTO:-0500
TZNAME:CDT
DTSTART:20210314T080000
END:DAYLIGHT
BEGIN:STANDARD
TZOFFSETFROM:-0500
TZOFFSETTO:-0600
TZNAME:CST
DTSTART:20211107T070000
END:STANDARD
END:VTIMEZONE
BEGIN:VEVENT
DTSTART;TZID=America/Chicago:20200321T080000
DTEND;TZID=America/Chicago:20200321T080000
DTSTAMP:20260424T094535
CREATED:20200311T153603Z
LAST-MODIFIED:20200311T154453Z
UID:3658-1584777600-1584777600@thyword.media
SUMMARY:Hope Center Feed
DESCRIPTION:The Hope Center located at 23 West Cherry Street in Mount Carmel\, IL. will be having a free community feed\, with clothes and food to give away\, on Saturday March 21st. Set up will begin at 8AM. The Hope Center is also in need of some items for their pantry such as Ramen noodles\, shoes\,books\, and dish towels. The Hope Center is open every Wednesday at 9 AM or by appointment. For more information please call Steve at 618-445-2065.
URL:https://thyword.media/event/hope-center-feed/
LOCATION:The Hope Center\, 23 Cherry St\, Albion\, IL
GEO:40.6331249;-89.3985283
X-APPLE-STRUCTURED-LOCATION;VALUE=URI;X-ADDRESS=The Hope Center 23 Cherry St Albion IL;X-APPLE-RADIUS=500;X-TITLE=23 Cherry St:geo:-89.3985283,40.6331249
END:VEVENT
BEGIN:VEVENT
DTSTART;TZID=America/Chicago:20200321T180000
DTEND;TZID=America/Chicago:20200321T180000
DTSTAMP:20260424T094535
CREATED:20200304T151408Z
LAST-MODIFIED:20200304T151408Z
UID:3638-1584813600-1584813600@thyword.media
SUMMARY:Dixie Melody Boys
DESCRIPTION:The Dixie Melody Boys will be featured in concert on Saturday March 21st at the Olney Church of the Nazarene in Olney\, IL. The popular quartete will be featured during the service at 6:00 PM. For more information 1411 N Walnut Stcall (618) 392-0986.
URL:https://thyword.media/event/dixie-melody-boys-2/
LOCATION:Olney Church of the Nazarene\, 1411 N Walnut St\, Olney\, IL\, 62450\, United States
GEO:38.744176;-88.08589
X-APPLE-STRUCTURED-LOCATION;VALUE=URI;X-ADDRESS=Olney Church of the Nazarene 1411 N Walnut St Olney IL 62450 United States;X-APPLE-RADIUS=500;X-TITLE=1411 N Walnut St:geo:-88.08589,38.744176
END:VEVENT
END:VCALENDAR