BEGIN:VCALENDAR
VERSION:2.0
PRODID:-//Thy Word Network - ECPv6.15.20//NONSGML v1.0//EN
CALSCALE:GREGORIAN
METHOD:PUBLISH
X-ORIGINAL-URL:https://thyword.media
X-WR-CALDESC:Events for Thy Word Network
REFRESH-INTERVAL;VALUE=DURATION:PT1H
X-Robots-Tag:noindex
X-PUBLISHED-TTL:PT1H
BEGIN:VTIMEZONE
TZID:America/Chicago
BEGIN:DAYLIGHT
TZOFFSETFROM:-0600
TZOFFSETTO:-0500
TZNAME:CDT
DTSTART:20190310T080000
END:DAYLIGHT
BEGIN:STANDARD
TZOFFSETFROM:-0500
TZOFFSETTO:-0600
TZNAME:CST
DTSTART:20191103T070000
END:STANDARD
BEGIN:DAYLIGHT
TZOFFSETFROM:-0600
TZOFFSETTO:-0500
TZNAME:CDT
DTSTART:20200308T080000
END:DAYLIGHT
BEGIN:STANDARD
TZOFFSETFROM:-0500
TZOFFSETTO:-0600
TZNAME:CST
DTSTART:20201101T070000
END:STANDARD
BEGIN:DAYLIGHT
TZOFFSETFROM:-0600
TZOFFSETTO:-0500
TZNAME:CDT
DTSTART:20210314T080000
END:DAYLIGHT
BEGIN:STANDARD
TZOFFSETFROM:-0500
TZOFFSETTO:-0600
TZNAME:CST
DTSTART:20211107T070000
END:STANDARD
END:VTIMEZONE
BEGIN:VEVENT
DTSTART;TZID=America/Chicago:20200314T130000
DTEND;TZID=America/Chicago:20200314T160000
DTSTAMP:20260424T060528
CREATED:20200226T151842Z
LAST-MODIFIED:20200226T151842Z
UID:3626-1584190800-1584201600@thyword.media
SUMMARY:Barnabas Ministries Reunion Open HOuse
DESCRIPTION: Barnabas Ministries Open House/Reunion is being celebrated on March 14\, 2020\, @ 1:00 pm – 4:00 pm.  The event will be held @ Redeemer Lutheran Church\, 1811  Lincoln Ave. Evansville\, IN. 47714.\n        Keith Hueftle\,  Tyrone Edwards\, and Don Brown and others will be sharing memories and future information about the ministry. There will food and fellowship\, lots of pictures\, and child care service will be provided. This is a free event\, but donations will be accepted. We are looking for pictures\, and names\, addresses of previous participants of Barnabas events. Everyone is welcome even if you are not familiar with Barnabas Ministries. Come and meet a great group of Christians that are “Encouragers” of God’s Word.\n        Great “youth” weekends and “young adult” events. We would all love to see you again\, renew acquaintances\, and even renew your walk with Christ.\n        Please Call\, Text\, or Email “Jamie Jones” to let us know you are coming so we can make accurate plans to accommodate you and your Family @ 812-470-9643\, email @ jamiescandles@live.com.\n        You can find us  on Facebook @ “”\n        Please spread the  Word about the Barnabas Reunion to all your Friends\, See you there….
URL:https://thyword.media/event/barnabas-ministries-reunion-open-house/
LOCATION:Redeemer Lutheran Church\, 1811 Lincoln Avenue\, Evansville\, IN\, 47714\, United States
GEO:37.969571;-87.531614
X-APPLE-STRUCTURED-LOCATION;VALUE=URI;X-ADDRESS=Redeemer Lutheran Church 1811 Lincoln Avenue Evansville IN 47714 United States;X-APPLE-RADIUS=500;X-TITLE=1811 Lincoln Avenue:geo:-87.531614,37.969571
END:VEVENT
END:VCALENDAR