BEGIN:VCALENDAR
VERSION:2.0
PRODID:-//Thy Word Network - ECPv6.15.20//NONSGML v1.0//EN
CALSCALE:GREGORIAN
METHOD:PUBLISH
X-ORIGINAL-URL:https://thyword.media
X-WR-CALDESC:Events for Thy Word Network
REFRESH-INTERVAL;VALUE=DURATION:PT1H
X-Robots-Tag:noindex
X-PUBLISHED-TTL:PT1H
BEGIN:VTIMEZONE
TZID:America/Chicago
BEGIN:DAYLIGHT
TZOFFSETFROM:-0600
TZOFFSETTO:-0500
TZNAME:CDT
DTSTART:20190310T080000
END:DAYLIGHT
BEGIN:STANDARD
TZOFFSETFROM:-0500
TZOFFSETTO:-0600
TZNAME:CST
DTSTART:20191103T070000
END:STANDARD
BEGIN:DAYLIGHT
TZOFFSETFROM:-0600
TZOFFSETTO:-0500
TZNAME:CDT
DTSTART:20200308T080000
END:DAYLIGHT
BEGIN:STANDARD
TZOFFSETFROM:-0500
TZOFFSETTO:-0600
TZNAME:CST
DTSTART:20201101T070000
END:STANDARD
BEGIN:DAYLIGHT
TZOFFSETFROM:-0600
TZOFFSETTO:-0500
TZNAME:CDT
DTSTART:20210314T080000
END:DAYLIGHT
BEGIN:STANDARD
TZOFFSETFROM:-0500
TZOFFSETTO:-0600
TZNAME:CST
DTSTART:20211107T070000
END:STANDARD
END:VTIMEZONE
BEGIN:VEVENT
DTSTART;TZID=America/Chicago:20200229T090000
DTEND;TZID=America/Chicago:20200229T120000
DTSTAMP:20260424T082656
CREATED:20191205T163944Z
LAST-MODIFIED:20191205T163944Z
UID:3366-1582966800-1582977600@thyword.media
SUMMARY:Life Institute Training
DESCRIPTION:A training on ” How To Make A Compelling Case For Life In A Pro-Death Culture” will be held on February 29\, 2020\, from 9 AM to noon at the Evansville-Vanderburgh Public Library in the Browning Room A &B located at 200 SE Martin Luther King Blvd\, Evansville\, IN. A $5 donation is suggested at the door.This training will be given by Mike Spencer.Register at https://rtlswin.org/event/life-institute-training-with-mike-spencer/
URL:https://thyword.media/event/life-institute-training/
LOCATION:Evansville-Vanderburgh Public Library\, 200 SE Martin Luther King Jr. Blvd\, Evansville\, IN\, 47708\, United States
GEO:37.9714061;-87.5655684
X-APPLE-STRUCTURED-LOCATION;VALUE=URI;X-ADDRESS=Evansville-Vanderburgh Public Library 200 SE Martin Luther King Jr. Blvd Evansville IN 47708 United States;X-APPLE-RADIUS=500;X-TITLE=200 SE Martin Luther King Jr. Blvd:geo:-87.5655684,37.9714061
END:VEVENT
BEGIN:VEVENT
DTSTART;TZID=America/Chicago:20200229T090000
DTEND;TZID=America/Chicago:20200229T153000
DTSTAMP:20260424T082656
CREATED:20200109T153735Z
LAST-MODIFIED:20200109T154645Z
UID:3459-1582966800-1582990200@thyword.media
SUMMARY:Spiritual Warfare Teaching
DESCRIPTION:February 28th-March 1st\, Friday evening through Sunday morning\, Grace Fellowship Church in Princeton\, IN will be hosting Dr. “Umfundisi” Jim Lo as a special guest teacher/preacher. He is an author\, speaker and professor/campus intercessor at Indiana Wesleyan University. “Umfundisi” Lo served as a Wesleyan missionary for 13 years in Southern Africa and Cambodia. As a missionary\, he was first significantly exposed to spiritual warfare. He states\, “We need to know who the enemy of our soul is… and we need to know that in Christ we need not live in fear but victory.” Please mark your calendars for this incredible opportunity to sharpen our view of reality and enhance our ability to live in spiritual victory! Please also invite other Christian friends in the community to join us for this amazing event at no cost.\nFor more information please go to www.gracefellowshipwc.com/events. \nGENERAL WEEKEND SCHEDULE:\nFRI. 6:30 PM: Introduction of Class\nSAT. 9 AM: Teaching on Spiritual Warfare\nSAT. 12 PM – 1:30 PM: Lunch Break\n**Local restaurants available\nSAT 1:30 PM – 3:30 PM: Teaching on Spiritual Warfare Part 2\nSUNDAY 10:30 AM: “Victory in Christ” Message
URL:https://thyword.media/event/spiritual-warfare-teaching/
LOCATION:Grace Fellowship Church\, 527 E Illinois Street\, Princeton\, IN\, 47670\, United States
GEO:38.3469001;-87.5619679
X-APPLE-STRUCTURED-LOCATION;VALUE=URI;X-ADDRESS=Grace Fellowship Church 527 E Illinois Street Princeton IN 47670 United States;X-APPLE-RADIUS=500;X-TITLE=527 E Illinois Street:geo:-87.5619679,38.3469001
END:VEVENT
BEGIN:VEVENT
DTSTART;TZID=America/Chicago:20200229T090000
DTEND;TZID=America/Chicago:20200229T233000
DTSTAMP:20260424T082656
CREATED:20200124T210146Z
LAST-MODIFIED:20200124T211943Z
UID:3526-1582966800-1583019000@thyword.media
SUMMARY:Girls STEM Day at Ivy Tech
DESCRIPTION:Evansville\, IN – High School girls are invited to a special Girls STEM Day promoting the career fields in Science\, Technology\, Engineering and Math. It is designed as an Escape Room activity\, where the girls will have to use concepts in these fields to solve puzzles and “escape.” It will be conducted at Ivy Tech Community College\, February 29\, from 9-11:30 a.m. \nThis free event is designed around the scenario that zombies are coming and the girls will have to solve how to get out of the room and save the pizza\, before the zombies arrive. \nPrizes will be awarded and lunch provided. A special activity is planned for any parents who would like to attend. Registration is limited to the first 50 students to register at http://bit.ly/HSGirlsSTEM \nThe event is funded through the Marilyn J. Klenck Fund for Education and Literacy at the Community Foundation Alliance\, supporting southern Indiana.
URL:https://thyword.media/event/girls-stem-day-at-ivy-tech/
LOCATION:Ivy Tech Community College\, 3501 North First Avenue\, Evansville\, IN\, 47708-1200\, United States
GEO:38.0098167;-87.57374
X-APPLE-STRUCTURED-LOCATION;VALUE=URI;X-ADDRESS=Ivy Tech Community College 3501 North First Avenue Evansville IN 47708-1200 United States;X-APPLE-RADIUS=500;X-TITLE=3501 North First Avenue:geo:-87.57374,38.0098167
END:VEVENT
BEGIN:VEVENT
DTSTART;TZID=America/Chicago:20200229T100000
DTEND;TZID=America/Chicago:20200229T150000
DTSTAMP:20260424T082656
CREATED:20200129T170329Z
LAST-MODIFIED:20200129T170329Z
UID:3539-1582970400-1582988400@thyword.media
SUMMARY:The Righteous Shall Flourish Women's Conference
DESCRIPTION:Gethsemane Church located at 1001 N Main Street in Evansville\, IN will be having a Flourish Women’s Conference\, THE RIGHTEOUS SHALL FLOURISH on Friday February the 28th from 7:00- 10:00 PM and Saturday February 29th from 10:00 AM- 3:00 PM. Keynote speakers will be Marissa Koester and Pastor Dana Culbertson. For more information on pricing and registration information please visit https://www.gcforme.org/ or call 812-422-1902
URL:https://thyword.media/event/the-righteous-shall-flourish-womens-conference-2/
LOCATION:Gethesemane Church\, 1001 N Main St\, Evansville\, IN\, 47711
GEO:37.9866921;-87.5636166
X-APPLE-STRUCTURED-LOCATION;VALUE=URI;X-ADDRESS=Gethesemane Church 1001 N Main St Evansville IN 47711;X-APPLE-RADIUS=500;X-TITLE=1001 N Main St:geo:-87.5636166,37.9866921
END:VEVENT
BEGIN:VEVENT
DTSTART;TZID=America/Chicago:20200229T130000
DTEND;TZID=America/Chicago:20200229T130000
DTSTAMP:20260424T082656
CREATED:20200218T193943Z
LAST-MODIFIED:20200218T193943Z
UID:3598-1582981200-1582981200@thyword.media
SUMMARY:Cherish 2020 Marriage Event
DESCRIPTION:Cherish 2020 will be coming to the Riverpark Center located at 101 Daviess Street in Owensboro\, KY on February the 29th from 1:00 PM to 6:00 PM. This is a ticketed marriage event that is designed to strengthen your marriage by drawing you closer to Jesus and to each other. For more information on this event and on registering please go to https://www.gracemarriage.com/cherish/. General Admission is $35 per person. Pastors\, Vets\, First Responders\, and Grace Marriage Participants $25 per person.
URL:https://thyword.media/event/cherish-2020-marriage-event/
LOCATION:Riverpark Center\, 101 Daviess Street\, Owensboro\, KY\, 42303\, United States
GEO:37.7756005;-87.1093933
X-APPLE-STRUCTURED-LOCATION;VALUE=URI;X-ADDRESS=Riverpark Center 101 Daviess Street Owensboro KY 42303 United States;X-APPLE-RADIUS=500;X-TITLE=101 Daviess Street:geo:-87.1093933,37.7756005
END:VEVENT
BEGIN:VEVENT
DTSTART;TZID=America/Chicago:20200229T170000
DTEND;TZID=America/Chicago:20200229T180000
DTSTAMP:20260424T082656
CREATED:20200107T161745Z
LAST-MODIFIED:20200107T161745Z
UID:3442-1582995600-1582999200@thyword.media
SUMMARY:Free Community Meal
DESCRIPTION:A free community meal will be offered on February the 29th from 5 PM to 6 PM by the Alfordsville Assembly of God located at 8581 S 1125 E Loogootee\, IN. For more information please call 812-631-1580.
URL:https://thyword.media/event/free-community-meal-2/
LOCATION:Alfordsville Assembly of God Church\, 8581 S 1125 E\, Loogootee\, IN\, 47553
GEO:38.531048;-86.961023
X-APPLE-STRUCTURED-LOCATION;VALUE=URI;X-ADDRESS=Alfordsville Assembly of God Church 8581 S 1125 E Loogootee IN 47553;X-APPLE-RADIUS=500;X-TITLE=8581 S 1125 E:geo:-86.961023,38.531048
END:VEVENT
END:VCALENDAR