BEGIN:VCALENDAR
VERSION:2.0
PRODID:-//Thy Word Network - ECPv6.15.20//NONSGML v1.0//EN
CALSCALE:GREGORIAN
METHOD:PUBLISH
X-WR-CALNAME:Thy Word Network
X-ORIGINAL-URL:https://thyword.media
X-WR-CALDESC:Events for Thy Word Network
REFRESH-INTERVAL;VALUE=DURATION:PT1H
X-Robots-Tag:noindex
X-PUBLISHED-TTL:PT1H
BEGIN:VTIMEZONE
TZID:America/Chicago
BEGIN:DAYLIGHT
TZOFFSETFROM:-0600
TZOFFSETTO:-0500
TZNAME:CDT
DTSTART:20190310T080000
END:DAYLIGHT
BEGIN:STANDARD
TZOFFSETFROM:-0500
TZOFFSETTO:-0600
TZNAME:CST
DTSTART:20191103T070000
END:STANDARD
BEGIN:DAYLIGHT
TZOFFSETFROM:-0600
TZOFFSETTO:-0500
TZNAME:CDT
DTSTART:20200308T080000
END:DAYLIGHT
BEGIN:STANDARD
TZOFFSETFROM:-0500
TZOFFSETTO:-0600
TZNAME:CST
DTSTART:20201101T070000
END:STANDARD
BEGIN:DAYLIGHT
TZOFFSETFROM:-0600
TZOFFSETTO:-0500
TZNAME:CDT
DTSTART:20210314T080000
END:DAYLIGHT
BEGIN:STANDARD
TZOFFSETFROM:-0500
TZOFFSETTO:-0600
TZNAME:CST
DTSTART:20211107T070000
END:STANDARD
END:VTIMEZONE
BEGIN:VEVENT
DTSTART;TZID=America/Chicago:20200219T190000
DTEND;TZID=America/Chicago:20200219T190000
DTSTAMP:20260424T104959
CREATED:20200124T161307Z
LAST-MODIFIED:20200124T161307Z
UID:3519-1582138800-1582138800@thyword.media
SUMMARY:Big Daddy Weave in concert
DESCRIPTION:The Big Daddy Weave Tour will be coming to the Preston Arts Center\, formerly known as the Henderson Fine Arts Center\, located at 2660 S Green Street in Henderson\, KY \, on Wednesday February 19th at 7:00 PM. This is a ticketed event. For more information please see https://bigdaddyweave.com.
URL:https://thyword.media/event/big-daddy-weave-in-concert/
LOCATION:Preston Arts Center\, 2660 S Green Street\, Henderson\, KY\, 42420\, United States
GEO:37.797129;-87.6525354
X-APPLE-STRUCTURED-LOCATION;VALUE=URI;X-ADDRESS=Preston Arts Center 2660 S Green Street Henderson KY 42420 United States;X-APPLE-RADIUS=500;X-TITLE=2660 S Green Street:geo:-87.6525354,37.797129
END:VEVENT
END:VCALENDAR