BEGIN:VCALENDAR
VERSION:2.0
PRODID:-//Thy Word Network - ECPv6.15.20//NONSGML v1.0//EN
CALSCALE:GREGORIAN
METHOD:PUBLISH
X-ORIGINAL-URL:https://thyword.media
X-WR-CALDESC:Events for Thy Word Network
REFRESH-INTERVAL;VALUE=DURATION:PT1H
X-Robots-Tag:noindex
X-PUBLISHED-TTL:PT1H
BEGIN:VTIMEZONE
TZID:America/Chicago
BEGIN:DAYLIGHT
TZOFFSETFROM:-0600
TZOFFSETTO:-0500
TZNAME:CDT
DTSTART:20190310T080000
END:DAYLIGHT
BEGIN:STANDARD
TZOFFSETFROM:-0500
TZOFFSETTO:-0600
TZNAME:CST
DTSTART:20191103T070000
END:STANDARD
BEGIN:DAYLIGHT
TZOFFSETFROM:-0600
TZOFFSETTO:-0500
TZNAME:CDT
DTSTART:20200308T080000
END:DAYLIGHT
BEGIN:STANDARD
TZOFFSETFROM:-0500
TZOFFSETTO:-0600
TZNAME:CST
DTSTART:20201101T070000
END:STANDARD
BEGIN:DAYLIGHT
TZOFFSETFROM:-0600
TZOFFSETTO:-0500
TZNAME:CDT
DTSTART:20210314T080000
END:DAYLIGHT
BEGIN:STANDARD
TZOFFSETFROM:-0500
TZOFFSETTO:-0600
TZNAME:CST
DTSTART:20211107T070000
END:STANDARD
END:VTIMEZONE
BEGIN:VEVENT
DTSTART;TZID=America/Chicago:20200215T080000
DTEND;TZID=America/Chicago:20200215T080000
DTSTAMP:20260424T100754
CREATED:20200213T144417Z
LAST-MODIFIED:20200213T144417Z
UID:3581-1581753600-1581753600@thyword.media
SUMMARY:Feed the Family
DESCRIPTION:The Hope Center located at 23 West Cherry Street in Albion\, IL will be having a Feed the Family event on February the 15th beginning at 8AM. This is a free event and they have food and clothes to give away. For more information about attending or donating to this event please call 618-445-2065 or email Safestart@hotmail.com
URL:https://thyword.media/event/feed-the-family-9/
LOCATION:The Hope Center\, 23 Cherry St\, Albion\, IL
GEO:40.6331249;-89.3985283
X-APPLE-STRUCTURED-LOCATION;VALUE=URI;X-ADDRESS=The Hope Center 23 Cherry St Albion IL;X-APPLE-RADIUS=500;X-TITLE=23 Cherry St:geo:-89.3985283,40.6331249
END:VEVENT
BEGIN:VEVENT
DTSTART;TZID=America/Chicago:20200215T160000
DTEND;TZID=America/Chicago:20200215T193000
DTSTAMP:20260424T100754
CREATED:20200210T154750Z
LAST-MODIFIED:20200210T154750Z
UID:3577-1581782400-1581795000@thyword.media
SUMMARY:Truelove United Methodist Church Soup Supper
DESCRIPTION:The Truelove United Methodist Church located at 6286 Beard Road South in Loogootee IN will be having their annual Soup Supper on Saturday February the 15th. They will be serving from 4PM to 7:30 PM. Chicken noodle\, chili or vegetable soup\, hot dogs\, coneys\, and desserts and drinks for a free will donation. Carry outs available\, For more information please contact (812) 295-2997
URL:https://thyword.media/event/truelove-united-methodist-church-soup-supper/
LOCATION:Truelove United Methodist Church\, 6286 Beard Rd\, Loogootee\, IN\, 47553
GEO:38.5806269;-86.8959089
X-APPLE-STRUCTURED-LOCATION;VALUE=URI;X-ADDRESS=Truelove United Methodist Church 6286 Beard Rd Loogootee IN 47553;X-APPLE-RADIUS=500;X-TITLE=6286 Beard Rd:geo:-86.8959089,38.5806269
END:VEVENT
END:VCALENDAR