BEGIN:VCALENDAR
VERSION:2.0
PRODID:-//Thy Word Network - ECPv6.15.20//NONSGML v1.0//EN
CALSCALE:GREGORIAN
METHOD:PUBLISH
X-WR-CALNAME:Thy Word Network
X-ORIGINAL-URL:https://thyword.media
X-WR-CALDESC:Events for Thy Word Network
REFRESH-INTERVAL;VALUE=DURATION:PT1H
X-Robots-Tag:noindex
X-PUBLISHED-TTL:PT1H
BEGIN:VTIMEZONE
TZID:America/Chicago
BEGIN:DAYLIGHT
TZOFFSETFROM:-0600
TZOFFSETTO:-0500
TZNAME:CDT
DTSTART:20190310T080000
END:DAYLIGHT
BEGIN:STANDARD
TZOFFSETFROM:-0500
TZOFFSETTO:-0600
TZNAME:CST
DTSTART:20191103T070000
END:STANDARD
BEGIN:DAYLIGHT
TZOFFSETFROM:-0600
TZOFFSETTO:-0500
TZNAME:CDT
DTSTART:20200308T080000
END:DAYLIGHT
BEGIN:STANDARD
TZOFFSETFROM:-0500
TZOFFSETTO:-0600
TZNAME:CST
DTSTART:20201101T070000
END:STANDARD
BEGIN:DAYLIGHT
TZOFFSETFROM:-0600
TZOFFSETTO:-0500
TZNAME:CDT
DTSTART:20210314T080000
END:DAYLIGHT
BEGIN:STANDARD
TZOFFSETFROM:-0500
TZOFFSETTO:-0600
TZNAME:CST
DTSTART:20211107T070000
END:STANDARD
END:VTIMEZONE
BEGIN:VEVENT
DTSTART;TZID=America/Chicago:20200207T190000
DTEND;TZID=America/Chicago:20200207T190000
DTSTAMP:20260424T071032
CREATED:20200107T155721Z
LAST-MODIFIED:20200107T160340Z
UID:3437-1581102000-1581102000@thyword.media
SUMMARY:Love Like Jesus Conference
DESCRIPTION:Love Like Jesus Conference for ladies from Tara Powell Ministries will be held on Feb 7th at 7 PM and  February 8th  from 9AM to 4PM\, at Christian Fellowship Church located at  4100 Millersburg Road in Evansville\, IN. It is $55 a ticket. Please visit tarapowellministries.com. to register. Register before January 20th to guarantee a shirt at the conference. If you register after January 20th\, the shirt will be mailed to you.
URL:https://thyword.media/event/love-like-jesus/
LOCATION:Christian Fellowship Church\, 4100 Millersburg Rd\, Evansville\, IN\, 47725
GEO:38.050439;-87.499294
X-APPLE-STRUCTURED-LOCATION;VALUE=URI;X-ADDRESS=Christian Fellowship Church 4100 Millersburg Rd Evansville IN 47725;X-APPLE-RADIUS=500;X-TITLE=4100 Millersburg Rd:geo:-87.499294,38.050439
END:VEVENT
BEGIN:VEVENT
DTSTART;TZID=America/Chicago:20200207T190000
DTEND;TZID=America/Chicago:20200207T190000
DTSTAMP:20260424T071032
CREATED:20200203T220040Z
LAST-MODIFIED:20200203T220040Z
UID:3557-1581102000-1581102000@thyword.media
SUMMARY:Revival with Shane and Janique Tenney
DESCRIPTION:The Glezen Revival Center will be having Revival services with Shane and Janique Tenney on February 7th\, 8th\, and 9th. The revival will begin at 7PM EST each evening. The Glezen Revival Center is located at 245 S. Glexzen St in Petersburg\, IN. For more information please contact  (812) 354-9909.
URL:https://thyword.media/event/revival-with-shane-and-janique-tenney/
LOCATION:Glezen Revival Center\, 245 S Glezen Center St.\, Petersburg\, IN\, 47567
GEO:38.418096;-87.300785
X-APPLE-STRUCTURED-LOCATION;VALUE=URI;X-ADDRESS=Glezen Revival Center 245 S Glezen Center St. Petersburg IN 47567;X-APPLE-RADIUS=500;X-TITLE=245 S Glezen Center St.:geo:-87.300785,38.418096
END:VEVENT
END:VCALENDAR