BEGIN:VCALENDAR
VERSION:2.0
PRODID:-//Thy Word Network - ECPv6.15.20//NONSGML v1.0//EN
CALSCALE:GREGORIAN
METHOD:PUBLISH
X-ORIGINAL-URL:https://thyword.media
X-WR-CALDESC:Events for Thy Word Network
REFRESH-INTERVAL;VALUE=DURATION:PT1H
X-Robots-Tag:noindex
X-PUBLISHED-TTL:PT1H
BEGIN:VTIMEZONE
TZID:America/Chicago
BEGIN:DAYLIGHT
TZOFFSETFROM:-0600
TZOFFSETTO:-0500
TZNAME:CDT
DTSTART:20190310T080000
END:DAYLIGHT
BEGIN:STANDARD
TZOFFSETFROM:-0500
TZOFFSETTO:-0600
TZNAME:CST
DTSTART:20191103T070000
END:STANDARD
BEGIN:DAYLIGHT
TZOFFSETFROM:-0600
TZOFFSETTO:-0500
TZNAME:CDT
DTSTART:20200308T080000
END:DAYLIGHT
BEGIN:STANDARD
TZOFFSETFROM:-0500
TZOFFSETTO:-0600
TZNAME:CST
DTSTART:20201101T070000
END:STANDARD
BEGIN:DAYLIGHT
TZOFFSETFROM:-0600
TZOFFSETTO:-0500
TZNAME:CDT
DTSTART:20210314T080000
END:DAYLIGHT
BEGIN:STANDARD
TZOFFSETFROM:-0500
TZOFFSETTO:-0600
TZNAME:CST
DTSTART:20211107T070000
END:STANDARD
END:VTIMEZONE
BEGIN:VEVENT
DTSTART;TZID=America/Chicago:20200206T180000
DTEND;TZID=America/Chicago:20200206T200000
DTSTAMP:20260424T071104
CREATED:20200129T164303Z
LAST-MODIFIED:20200129T164303Z
UID:3535-1581012000-1581019200@thyword.media
SUMMARY:Free Community Meal
DESCRIPTION:Loogootee Christian Church located at 206 Sherman Street in Loogootee will host a free meal for all members of the community on Thursday\, February 6th\, from 6:00 – 8:00 PM. For more information please call (812) 295-2741.
URL:https://thyword.media/event/free-community-meal-5/
LOCATION:Loogootee Christian Church\, 206 Sherman Street\, Loogootee\, IN\, 47553
GEO:38.674136;-86.9173952
X-APPLE-STRUCTURED-LOCATION;VALUE=URI;X-ADDRESS=Loogootee Christian Church 206 Sherman Street Loogootee IN 47553;X-APPLE-RADIUS=500;X-TITLE=206 Sherman Street:geo:-86.9173952,38.674136
END:VEVENT
END:VCALENDAR