BEGIN:VCALENDAR
VERSION:2.0
PRODID:-//Thy Word Network - ECPv6.15.20//NONSGML v1.0//EN
CALSCALE:GREGORIAN
METHOD:PUBLISH
X-ORIGINAL-URL:https://thyword.media
X-WR-CALDESC:Events for Thy Word Network
REFRESH-INTERVAL;VALUE=DURATION:PT1H
X-Robots-Tag:noindex
X-PUBLISHED-TTL:PT1H
BEGIN:VTIMEZONE
TZID:America/Chicago
BEGIN:DAYLIGHT
TZOFFSETFROM:-0600
TZOFFSETTO:-0500
TZNAME:CDT
DTSTART:20180311T080000
END:DAYLIGHT
BEGIN:STANDARD
TZOFFSETFROM:-0500
TZOFFSETTO:-0600
TZNAME:CST
DTSTART:20181104T070000
END:STANDARD
BEGIN:DAYLIGHT
TZOFFSETFROM:-0600
TZOFFSETTO:-0500
TZNAME:CDT
DTSTART:20190310T080000
END:DAYLIGHT
BEGIN:STANDARD
TZOFFSETFROM:-0500
TZOFFSETTO:-0600
TZNAME:CST
DTSTART:20191103T070000
END:STANDARD
BEGIN:DAYLIGHT
TZOFFSETFROM:-0600
TZOFFSETTO:-0500
TZNAME:CDT
DTSTART:20200308T080000
END:DAYLIGHT
BEGIN:STANDARD
TZOFFSETFROM:-0500
TZOFFSETTO:-0600
TZNAME:CST
DTSTART:20201101T070000
END:STANDARD
END:VTIMEZONE
BEGIN:VEVENT
DTSTART;TZID=America/Chicago:20191123T150000
DTEND;TZID=America/Chicago:20191123T190000
DTSTAMP:20260424T215122
CREATED:20191104T192756Z
LAST-MODIFIED:20191104T192756Z
UID:3300-1574521200-1574535600@thyword.media
SUMMARY:Holiday Dinner and Bazaar
DESCRIPTION:Patoka United Methodist Church in Patoka \, IN will hold a Holiday Dinner and Bazaar on November 23\, from 3PM to 7PM. Turkey or ham\, mashed potatoes\, dressing\, gravy\, green beans\, corn\, cranberry salad\, bread\, UMC apple butter\, coffee\, tea\, and desserts.There will be hand made crafts\, sweet treats\, holiday items\, and our famous apple butter.. Carry out available. Cost is $10 donation for adults and $5 donation for children 6-10. Nichiren 5 and under are free.
URL:https://thyword.media/event/holiday-dinner-and-bazaar/
LOCATION:Patoka United Methodist Church\, 104 N.E. Mill Street\, Patoka\, IN\, 47666
GEO:38.406452;-87.5835408
X-APPLE-STRUCTURED-LOCATION;VALUE=URI;X-ADDRESS=Patoka United Methodist Church 104 N.E. Mill Street Patoka IN 47666;X-APPLE-RADIUS=500;X-TITLE=104 N.E. Mill Street:geo:-87.5835408,38.406452
END:VEVENT
BEGIN:VEVENT
DTSTART;TZID=America/Chicago:20191123T170000
DTEND;TZID=America/Chicago:20191123T170000
DTSTAMP:20260424T215122
CREATED:20191113T195301Z
LAST-MODIFIED:20191113T195301Z
UID:3319-1574528400-1574528400@thyword.media
SUMMARY:Gifts of Love Fundraiser
DESCRIPTION:The Howell General Baptist Church in Evansville will have a Gifts of Love Fundraiser on Saturday November the 23rd. A dinner will be held at 5PM and a concert featuring the Childress Family begins at 6PM.  There will also be a silent auction. All proceeds will go to the Gifts of Love to help purchase gifts for families in need at Christmas.\nTickets are $12 each and will be available at the door or in advance at the church office. Call 812-455-6492 for more information.
URL:https://thyword.media/event/gifts-of-love-fundraiser/
LOCATION:Howell General Baptist Church Family Life Center\, 3111 Emerson\, Evansville\, IN\, 47712\, United States
GEO:37.96021;-87.6130069
X-APPLE-STRUCTURED-LOCATION;VALUE=URI;X-ADDRESS=Howell General Baptist Church Family Life Center 3111 Emerson Evansville IN 47712 United States;X-APPLE-RADIUS=500;X-TITLE=3111 Emerson:geo:-87.6130069,37.96021
END:VEVENT
END:VCALENDAR