BEGIN:VCALENDAR
VERSION:2.0
PRODID:-//Thy Word Network - ECPv6.15.20//NONSGML v1.0//EN
CALSCALE:GREGORIAN
METHOD:PUBLISH
X-ORIGINAL-URL:https://thyword.media
X-WR-CALDESC:Events for Thy Word Network
REFRESH-INTERVAL;VALUE=DURATION:PT1H
X-Robots-Tag:noindex
X-PUBLISHED-TTL:PT1H
BEGIN:VTIMEZONE
TZID:America/Chicago
BEGIN:DAYLIGHT
TZOFFSETFROM:-0600
TZOFFSETTO:-0500
TZNAME:CDT
DTSTART:20180311T080000
END:DAYLIGHT
BEGIN:STANDARD
TZOFFSETFROM:-0500
TZOFFSETTO:-0600
TZNAME:CST
DTSTART:20181104T070000
END:STANDARD
BEGIN:DAYLIGHT
TZOFFSETFROM:-0600
TZOFFSETTO:-0500
TZNAME:CDT
DTSTART:20190310T080000
END:DAYLIGHT
BEGIN:STANDARD
TZOFFSETFROM:-0500
TZOFFSETTO:-0600
TZNAME:CST
DTSTART:20191103T070000
END:STANDARD
BEGIN:DAYLIGHT
TZOFFSETFROM:-0600
TZOFFSETTO:-0500
TZNAME:CDT
DTSTART:20200308T080000
END:DAYLIGHT
BEGIN:STANDARD
TZOFFSETFROM:-0500
TZOFFSETTO:-0600
TZNAME:CST
DTSTART:20201101T070000
END:STANDARD
END:VTIMEZONE
BEGIN:VEVENT
DTSTART;TZID=America/Chicago:20191114T180000
DTEND;TZID=America/Chicago:20191114T190000
DTSTAMP:20260424T163444
CREATED:20191001T191543Z
LAST-MODIFIED:20191001T191543Z
UID:3194-1573754400-1573758000@thyword.media
SUMMARY:Grief Support Group
DESCRIPTION:The monthly Grief Support Group Meeting: presented by the SE Illinois Pastoral Counseling Center will be held on Thursday\, November 14th from 6:00 p.m. to 7:00 p.m. at the First United Methodist Church\nin Carmi\, IL.  For more information their phone number is 618-382-5548.
URL:https://thyword.media/event/grief-support-group-4/
LOCATION:First United Methodist Church – Carmi\, 100 S Church St\, Carmi\, IL
GEO:38.0890988;-88.1613126
X-APPLE-STRUCTURED-LOCATION;VALUE=URI;X-ADDRESS=First United Methodist Church – Carmi 100 S Church St Carmi IL;X-APPLE-RADIUS=500;X-TITLE=100 S Church St:geo:-88.1613126,38.0890988
END:VEVENT
BEGIN:VEVENT
DTSTART;TZID=America/Chicago:20191114T180000
DTEND;TZID=America/Chicago:20191114T200000
DTSTAMP:20260424T163444
CREATED:20191101T155823Z
LAST-MODIFIED:20191101T155823Z
UID:3296-1573754400-1573761600@thyword.media
SUMMARY:College 101
DESCRIPTION:Ivy Tech Community College Evansville Campus will host College 101\, an on-campus event for potential students and their families about the many different aspects of going to college. The event will be in Vectren Auditorium (Room 147)\, at Ivy Tech’s main campus\, 3501 N. First Avenue\, Evansville. \nDuring the event\, information will be shared about the more than 50 programs of study offered at Ivy Tech\, the transferability of credits to other institutions of higher learning\, financial aid and scholarships available\, how to apply and enroll\, and much more. \nCollege 101 is free and open to all potential students\, including high school Ivy Tech dual credit students and 21st Century Scholars. Participants are encouraged to RSVP prior to attending the event. All details\, including the list of participating locations\, can be found at IvyTech.edu/College101. \nFor additional information\, call 812-429-1391.
URL:https://thyword.media/event/college-101/
LOCATION:IL
END:VEVENT
END:VCALENDAR