BEGIN:VCALENDAR
VERSION:2.0
PRODID:-//Thy Word Network - ECPv6.15.20//NONSGML v1.0//EN
CALSCALE:GREGORIAN
METHOD:PUBLISH
X-WR-CALNAME:Thy Word Network
X-ORIGINAL-URL:https://thyword.media
X-WR-CALDESC:Events for Thy Word Network
REFRESH-INTERVAL;VALUE=DURATION:PT1H
X-Robots-Tag:noindex
X-PUBLISHED-TTL:PT1H
BEGIN:VTIMEZONE
TZID:America/Chicago
BEGIN:DAYLIGHT
TZOFFSETFROM:-0600
TZOFFSETTO:-0500
TZNAME:CDT
DTSTART:20180311T080000
END:DAYLIGHT
BEGIN:STANDARD
TZOFFSETFROM:-0500
TZOFFSETTO:-0600
TZNAME:CST
DTSTART:20181104T070000
END:STANDARD
BEGIN:DAYLIGHT
TZOFFSETFROM:-0600
TZOFFSETTO:-0500
TZNAME:CDT
DTSTART:20190310T080000
END:DAYLIGHT
BEGIN:STANDARD
TZOFFSETFROM:-0500
TZOFFSETTO:-0600
TZNAME:CST
DTSTART:20191103T070000
END:STANDARD
BEGIN:DAYLIGHT
TZOFFSETFROM:-0600
TZOFFSETTO:-0500
TZNAME:CDT
DTSTART:20200308T080000
END:DAYLIGHT
BEGIN:STANDARD
TZOFFSETFROM:-0500
TZOFFSETTO:-0600
TZNAME:CST
DTSTART:20201101T070000
END:STANDARD
END:VTIMEZONE
BEGIN:VEVENT
DTSTART;TZID=America/Chicago:20191110T103000
DTEND;TZID=America/Chicago:20191110T153000
DTSTAMP:20260424T121517
CREATED:20191022T192832Z
LAST-MODIFIED:20191024T163004Z
UID:3260-1573381800-1573399800@thyword.media
SUMMARY:New Testament Live event
DESCRIPTION:Family Bible Church\, in Evansville\, will be hosting a New Testament Live event starting at 10:30 AM.  A speaker will lead attendees in telling the overall\, basic story of the New Testament using hand signs. Lunch will be provided. End time will be around 3:30. $10 per person and no more than $50 will be charged per family. Register for the event at familybiblechurch.us by typing your name in the “Contact Us” box.
URL:https://thyword.media/event/new-testament-live-event/
LOCATION:Family Bible Church\, 15515 Husky Way\, Evansville\, IN\, 47724\, United States
ORGANIZER;CN="":MAILTO:ruth.cravens@thyword.org
GEO:38.1202129;-87.5484951
X-APPLE-STRUCTURED-LOCATION;VALUE=URI;X-ADDRESS=Family Bible Church 15515 Husky Way Evansville IN 47724 United States;X-APPLE-RADIUS=500;X-TITLE=15515 Husky Way:geo:-87.5484951,38.1202129
END:VEVENT
END:VCALENDAR