BEGIN:VCALENDAR
VERSION:2.0
PRODID:-//Thy Word Network - ECPv6.15.20//NONSGML v1.0//EN
CALSCALE:GREGORIAN
METHOD:PUBLISH
X-WR-CALNAME:Thy Word Network
X-ORIGINAL-URL:https://thyword.media
X-WR-CALDESC:Events for Thy Word Network
REFRESH-INTERVAL;VALUE=DURATION:PT1H
X-Robots-Tag:noindex
X-PUBLISHED-TTL:PT1H
BEGIN:VTIMEZONE
TZID:America/Chicago
BEGIN:DAYLIGHT
TZOFFSETFROM:-0600
TZOFFSETTO:-0500
TZNAME:CDT
DTSTART:20180311T080000
END:DAYLIGHT
BEGIN:STANDARD
TZOFFSETFROM:-0500
TZOFFSETTO:-0600
TZNAME:CST
DTSTART:20181104T070000
END:STANDARD
BEGIN:DAYLIGHT
TZOFFSETFROM:-0600
TZOFFSETTO:-0500
TZNAME:CDT
DTSTART:20190310T080000
END:DAYLIGHT
BEGIN:STANDARD
TZOFFSETFROM:-0500
TZOFFSETTO:-0600
TZNAME:CST
DTSTART:20191103T070000
END:STANDARD
BEGIN:DAYLIGHT
TZOFFSETFROM:-0600
TZOFFSETTO:-0500
TZNAME:CDT
DTSTART:20200308T080000
END:DAYLIGHT
BEGIN:STANDARD
TZOFFSETFROM:-0500
TZOFFSETTO:-0600
TZNAME:CST
DTSTART:20201101T070000
END:STANDARD
END:VTIMEZONE
BEGIN:VEVENT
DTSTART;TZID=America/Chicago:20191109T160000
DTEND;TZID=America/Chicago:20191109T160000
DTSTAMP:20260424T131712
CREATED:20191025T165840Z
LAST-MODIFIED:20191025T165840Z
UID:3272-1573315200-1573315200@thyword.media
SUMMARY:Thanksgiving Supper
DESCRIPTION:St. Matthew Church in Lynnville\, IN\, will hold a Thanksgiving Supper on November 9th\, at 4 PM (CST). Turkey\, Ham and all the trimmings. Dine in and carry out available. Adults $9.00\, Children 4-10 $4.50. Country Store items for sale; pecans\, kitchen utensils\, and more. For more information call 812-922-5169.
URL:https://thyword.media/event/thanksgiving-supper-2/
LOCATION:St. Matthews Church of Lynnville\, 3044 Sommerville Rd\, Lynnville\, IN\, 47619\, United States
GEO:38.2320325;-87.2993221
X-APPLE-STRUCTURED-LOCATION;VALUE=URI;X-ADDRESS=St. Matthews Church of Lynnville 3044 Sommerville Rd Lynnville IN 47619 United States;X-APPLE-RADIUS=500;X-TITLE=3044 Sommerville Rd:geo:-87.2993221,38.2320325
END:VEVENT
BEGIN:VEVENT
DTSTART;TZID=America/Chicago:20191109T180000
DTEND;TZID=America/Chicago:20191109T180000
DTSTAMP:20260424T131712
CREATED:20191014T144411Z
LAST-MODIFIED:20191016T151001Z
UID:3244-1573322400-1573322400@thyword.media
SUMMARY:Gordon Mote in Concert
DESCRIPTION:The Owensville United Methodist Church in Owensville\, IN will be featuring Gordon Mote in concert on Saturday\, November the 9th at 6 PM. Admission is free but a free will offering will be taken.
URL:https://thyword.media/event/gordon-mote-in-concert/
LOCATION:Owensville United Methodist Church\, 103 S 3rd St\,\, Owensville\, IN\, 47665\, United States
GEO:38.272364;-87.6901073
X-APPLE-STRUCTURED-LOCATION;VALUE=URI;X-ADDRESS=Owensville United Methodist Church 103 S 3rd St Owensville IN 47665 United States;X-APPLE-RADIUS=500;X-TITLE=103 S 3rd St\,:geo:-87.6901073,38.272364
END:VEVENT
BEGIN:VEVENT
DTSTART;TZID=America/Chicago:20191109T180000
DTEND;TZID=America/Chicago:20191109T180000
DTSTAMP:20260424T131712
CREATED:20191030T190940Z
LAST-MODIFIED:20191030T190940Z
UID:3284-1573322400-1573322400@thyword.media
SUMMARY:Gospel Concert
DESCRIPTION:On November 9th\,The First Southern Baptist Church in Evansville will have a Gospel Concert featuring Lambsong with special guest The Childress Family and The Lindseys. Doors open at 5:00 PM \, concert starts at 6:00 PM. A love offering will be taken.
URL:https://thyword.media/event/gospel-concert-2/
LOCATION:First Southern Baptist Church\, 25 S Cullen Ave\, Evansville\, IN
GEO:37.976022;-87.488804
X-APPLE-STRUCTURED-LOCATION;VALUE=URI;X-ADDRESS=First Southern Baptist Church 25 S Cullen Ave Evansville IN;X-APPLE-RADIUS=500;X-TITLE=25 S Cullen Ave:geo:-87.488804,37.976022
END:VEVENT
END:VCALENDAR