BEGIN:VCALENDAR
VERSION:2.0
PRODID:-//Thy Word Network - ECPv6.15.20//NONSGML v1.0//EN
CALSCALE:GREGORIAN
METHOD:PUBLISH
X-WR-CALNAME:Thy Word Network
X-ORIGINAL-URL:https://thyword.media
X-WR-CALDESC:Events for Thy Word Network
REFRESH-INTERVAL;VALUE=DURATION:PT1H
X-Robots-Tag:noindex
X-PUBLISHED-TTL:PT1H
BEGIN:VTIMEZONE
TZID:America/Chicago
BEGIN:DAYLIGHT
TZOFFSETFROM:-0600
TZOFFSETTO:-0500
TZNAME:CDT
DTSTART:20180311T080000
END:DAYLIGHT
BEGIN:STANDARD
TZOFFSETFROM:-0500
TZOFFSETTO:-0600
TZNAME:CST
DTSTART:20181104T070000
END:STANDARD
BEGIN:DAYLIGHT
TZOFFSETFROM:-0600
TZOFFSETTO:-0500
TZNAME:CDT
DTSTART:20190310T080000
END:DAYLIGHT
BEGIN:STANDARD
TZOFFSETFROM:-0500
TZOFFSETTO:-0600
TZNAME:CST
DTSTART:20191103T070000
END:STANDARD
BEGIN:DAYLIGHT
TZOFFSETFROM:-0600
TZOFFSETTO:-0500
TZNAME:CDT
DTSTART:20200308T080000
END:DAYLIGHT
BEGIN:STANDARD
TZOFFSETFROM:-0500
TZOFFSETTO:-0600
TZNAME:CST
DTSTART:20201101T070000
END:STANDARD
END:VTIMEZONE
BEGIN:VEVENT
DTSTART;TZID=America/Chicago:20191107T180000
DTEND;TZID=America/Chicago:20191107T203000
DTSTAMP:20260424T202421
CREATED:20191001T203458Z
LAST-MODIFIED:20191001T203647Z
UID:3212-1573149600-1573158600@thyword.media
SUMMARY:Helping His Hands Second Annual Banquet
DESCRIPTION:Helping His Hands will be having their Second Annual Banquet on November the 7th at the Highland Woods Community Center in Vincennes from 6:00 PM to 8:30 PM. Sponsorships and donations are needed to help disaster victims\, low income families needing food or vehicle maintenance and repairs\, and disabled persons needing ramps and low rise steps. For tickets or sponsorship opportunities\, or auction donations\, contact Tiffany at 812-494-2888 or email helpinghands11@gmail.com.
URL:https://thyword.media/event/helping-his-hands-second-annual-banquet/
LOCATION:Highland Woods Community Center\, 1377 Hart St\, Vincennes\, IN
GEO:38.6725493;-87.5182263
X-APPLE-STRUCTURED-LOCATION;VALUE=URI;X-ADDRESS=Highland Woods Community Center 1377 Hart St Vincennes IN;X-APPLE-RADIUS=500;X-TITLE=1377 Hart St:geo:-87.5182263,38.6725493
END:VEVENT
END:VCALENDAR