BEGIN:VCALENDAR
VERSION:2.0
PRODID:-//Thy Word Network - ECPv6.15.20//NONSGML v1.0//EN
CALSCALE:GREGORIAN
METHOD:PUBLISH
X-WR-CALNAME:Thy Word Network
X-ORIGINAL-URL:https://thyword.media
X-WR-CALDESC:Events for Thy Word Network
REFRESH-INTERVAL;VALUE=DURATION:PT1H
X-Robots-Tag:noindex
X-PUBLISHED-TTL:PT1H
BEGIN:VTIMEZONE
TZID:America/Chicago
BEGIN:DAYLIGHT
TZOFFSETFROM:-0600
TZOFFSETTO:-0500
TZNAME:CDT
DTSTART:20180311T080000
END:DAYLIGHT
BEGIN:STANDARD
TZOFFSETFROM:-0500
TZOFFSETTO:-0600
TZNAME:CST
DTSTART:20181104T070000
END:STANDARD
BEGIN:DAYLIGHT
TZOFFSETFROM:-0600
TZOFFSETTO:-0500
TZNAME:CDT
DTSTART:20190310T080000
END:DAYLIGHT
BEGIN:STANDARD
TZOFFSETFROM:-0500
TZOFFSETTO:-0600
TZNAME:CST
DTSTART:20191103T070000
END:STANDARD
BEGIN:DAYLIGHT
TZOFFSETFROM:-0600
TZOFFSETTO:-0500
TZNAME:CDT
DTSTART:20200308T080000
END:DAYLIGHT
BEGIN:STANDARD
TZOFFSETFROM:-0500
TZOFFSETTO:-0600
TZNAME:CST
DTSTART:20201101T070000
END:STANDARD
END:VTIMEZONE
BEGIN:VEVENT
DTSTART;TZID=America/Chicago:20191105T160000
DTEND;TZID=America/Chicago:20191105T183000
DTSTAMP:20260424T152440
CREATED:20191016T150055Z
LAST-MODIFIED:20191016T150055Z
UID:3248-1572969600-1572978600@thyword.media
SUMMARY:Right to Life Soup Supper
DESCRIPTION:Saints Peter and Paul Respect Life Committee will be hosting a Right to Life Soup Supper on Tuesday November the 5th at 4:00 PM to 6:30 PM at the Sts. Peter and Paul Cafeteria in Haubstadt. Chicken Noodle\, Chili\, desserts\, and drinks will be offered. Eat in or bring containers for carry out.
URL:https://thyword.media/event/right-to-life-soup-supper/
LOCATION:Saints Peter and Paul Church\, 211 North VIne\, Haubstadt\, IN\, 47639\, United States
GEO:38.2066544;-87.577025
X-APPLE-STRUCTURED-LOCATION;VALUE=URI;X-ADDRESS=Saints Peter and Paul Church 211 North VIne Haubstadt IN 47639 United States;X-APPLE-RADIUS=500;X-TITLE=211 North VIne:geo:-87.577025,38.2066544
END:VEVENT
END:VCALENDAR