BEGIN:VCALENDAR
VERSION:2.0
PRODID:-//Thy Word Network - ECPv6.15.20//NONSGML v1.0//EN
CALSCALE:GREGORIAN
METHOD:PUBLISH
X-ORIGINAL-URL:https://thyword.media
X-WR-CALDESC:Events for Thy Word Network
REFRESH-INTERVAL;VALUE=DURATION:PT1H
X-Robots-Tag:noindex
X-PUBLISHED-TTL:PT1H
BEGIN:VTIMEZONE
TZID:America/Chicago
BEGIN:DAYLIGHT
TZOFFSETFROM:-0600
TZOFFSETTO:-0500
TZNAME:CDT
DTSTART:20180311T080000
END:DAYLIGHT
BEGIN:STANDARD
TZOFFSETFROM:-0500
TZOFFSETTO:-0600
TZNAME:CST
DTSTART:20181104T070000
END:STANDARD
BEGIN:DAYLIGHT
TZOFFSETFROM:-0600
TZOFFSETTO:-0500
TZNAME:CDT
DTSTART:20190310T080000
END:DAYLIGHT
BEGIN:STANDARD
TZOFFSETFROM:-0500
TZOFFSETTO:-0600
TZNAME:CST
DTSTART:20191103T070000
END:STANDARD
BEGIN:DAYLIGHT
TZOFFSETFROM:-0600
TZOFFSETTO:-0500
TZNAME:CDT
DTSTART:20200308T080000
END:DAYLIGHT
BEGIN:STANDARD
TZOFFSETFROM:-0500
TZOFFSETTO:-0600
TZNAME:CST
DTSTART:20201101T070000
END:STANDARD
END:VTIMEZONE
BEGIN:VEVENT
DTSTART;TZID=America/Chicago:20191102T160000
DTEND;TZID=America/Chicago:20191102T160000
DTSTAMP:20260424T131824
CREATED:20191014T143628Z
LAST-MODIFIED:20191014T143628Z
UID:3238-1572710400-1572710400@thyword.media
SUMMARY:Cowling Community Center Annual Chili Supper
DESCRIPTION:The Cowling Community Center located at 6441 E 270 Road\, 15 miles south of Mt. Carmel\, IL on State Route One\, will be having it’s Annual Chili Supper on Saturday November the 2nd\, at 4:00 PM. Enjoy chili by the bowl or in your own non-glass carry out container. Hamburgers\, Cheeseburgers\, Hotdogs\, Chili Dogs\, Peanut Butter Sandwiches\, Desserts  and Beverages available.
URL:https://thyword.media/event/cowling-community-center-annual-chili-supper/
LOCATION:Cowling Community Center
GEO:38.4145961;-87.767703
END:VEVENT
BEGIN:VEVENT
DTSTART;TZID=America/Chicago:20191102T190000
DTEND;TZID=America/Chicago:20191102T190000
DTSTAMP:20260424T131824
CREATED:20191030T184819Z
LAST-MODIFIED:20191030T191637Z
UID:3277-1572721200-1572721200@thyword.media
SUMMARY:133rd Anniversary Bone Gap Christian Church
DESCRIPTION:Bone Gap Christian Church in Bone Gap\, IL will be celebrating it’s 133rd anniversary. Revival services will begin at 7PM\, featuring Evangelist Joe Wilson of Perry Hall\, Maryland.Joe is the Regional Vice President for the Northeast for Christian Financial Services
URL:https://thyword.media/event/133rd-anniversary-bone-gap-christian-church/
LOCATION:Bone Gap Christian Church\, 325 S. State Street\, Bone Gap\, IL\, 62815\, United States
GEO:38.4475;-87.9958066
X-APPLE-STRUCTURED-LOCATION;VALUE=URI;X-ADDRESS=Bone Gap Christian Church 325 S. State Street Bone Gap IL 62815 United States;X-APPLE-RADIUS=500;X-TITLE=325 S. State Street:geo:-87.9958066,38.4475
END:VEVENT
END:VCALENDAR