BEGIN:VCALENDAR
VERSION:2.0
PRODID:-//Thy Word Network - ECPv6.15.20//NONSGML v1.0//EN
CALSCALE:GREGORIAN
METHOD:PUBLISH
X-ORIGINAL-URL:https://thyword.media
X-WR-CALDESC:Events for Thy Word Network
REFRESH-INTERVAL;VALUE=DURATION:PT1H
X-Robots-Tag:noindex
X-PUBLISHED-TTL:PT1H
BEGIN:VTIMEZONE
TZID:America/Chicago
BEGIN:DAYLIGHT
TZOFFSETFROM:-0600
TZOFFSETTO:-0500
TZNAME:CDT
DTSTART:20180311T080000
END:DAYLIGHT
BEGIN:STANDARD
TZOFFSETFROM:-0500
TZOFFSETTO:-0600
TZNAME:CST
DTSTART:20181104T070000
END:STANDARD
BEGIN:DAYLIGHT
TZOFFSETFROM:-0600
TZOFFSETTO:-0500
TZNAME:CDT
DTSTART:20190310T080000
END:DAYLIGHT
BEGIN:STANDARD
TZOFFSETFROM:-0500
TZOFFSETTO:-0600
TZNAME:CST
DTSTART:20191103T070000
END:STANDARD
BEGIN:DAYLIGHT
TZOFFSETFROM:-0600
TZOFFSETTO:-0500
TZNAME:CDT
DTSTART:20200308T080000
END:DAYLIGHT
BEGIN:STANDARD
TZOFFSETFROM:-0500
TZOFFSETTO:-0600
TZNAME:CST
DTSTART:20201101T070000
END:STANDARD
END:VTIMEZONE
BEGIN:VEVENT
DTSTART;TZID=America/Chicago:20191101T180000
DTEND;TZID=America/Chicago:20191101T180000
DTSTAMP:20260424T215121
CREATED:20191001T202440Z
LAST-MODIFIED:20191014T141438Z
UID:3210-1572631200-1572631200@thyword.media
SUMMARY:Gospel Night featuring The Martins
DESCRIPTION:Oakland City University will be presenting a Gospel Night featuring The Hoppers\, The Martins\, and a Tribute Quartet. The concert will be held in the Johnson center located at 705 North Franklin Street in Oakland City. Doors open at 6:00PM \, concert starts at 7:00 PM. Purchase admission through the Campus Store on the campus of Oakland City University or online at www.oak.edu. Admission is $17 at the door\, $12 in advance\, $10 each for groups of 10 or more.
URL:https://thyword.media/event/gospel-night/
LOCATION:Oakland City University\, 138 N Lucretia St\, Oakland City\, IN\, 47660
GEO:38.3395434;-87.352751
X-APPLE-STRUCTURED-LOCATION;VALUE=URI;X-ADDRESS=Oakland City University 138 N Lucretia St Oakland City IN 47660;X-APPLE-RADIUS=500;X-TITLE=138 N Lucretia St:geo:-87.352751,38.3395434
END:VEVENT
BEGIN:VEVENT
DTSTART;TZID=America/Chicago:20191101T190000
DTEND;TZID=America/Chicago:20191101T190000
DTSTAMP:20260424T215121
CREATED:20191030T185232Z
LAST-MODIFIED:20191030T191432Z
UID:3280-1572634800-1572634800@thyword.media
SUMMARY:Bone Gap Christian Church 133rd Anniversary
DESCRIPTION:Bone Gap Christian Church in Bone Gap\, IL will be celebrating it’s 133rd anniversary. Revival services will begin at 7PM\, featuring Evangelist Joe Wilson of Perry Hall\, Maryland.Joe is the Regional Vice President for the Northeast for Christian Financial Services
URL:https://thyword.media/event/bone-gap-christian-church-133rd-anniversary/
LOCATION:Bone Gap Christian Church\, 325 S. State Street\, Bone Gap\, IL\, 62815\, United States
GEO:38.4475;-87.9958066
X-APPLE-STRUCTURED-LOCATION;VALUE=URI;X-ADDRESS=Bone Gap Christian Church 325 S. State Street Bone Gap IL 62815 United States;X-APPLE-RADIUS=500;X-TITLE=325 S. State Street:geo:-87.9958066,38.4475
END:VEVENT
END:VCALENDAR