BEGIN:VCALENDAR
VERSION:2.0
PRODID:-//Thy Word Network - ECPv6.15.20//NONSGML v1.0//EN
CALSCALE:GREGORIAN
METHOD:PUBLISH
X-ORIGINAL-URL:https://thyword.media
X-WR-CALDESC:Events for Thy Word Network
REFRESH-INTERVAL;VALUE=DURATION:PT1H
X-Robots-Tag:noindex
X-PUBLISHED-TTL:PT1H
BEGIN:VTIMEZONE
TZID:America/Chicago
BEGIN:DAYLIGHT
TZOFFSETFROM:-0600
TZOFFSETTO:-0500
TZNAME:CDT
DTSTART:20180311T080000
END:DAYLIGHT
BEGIN:STANDARD
TZOFFSETFROM:-0500
TZOFFSETTO:-0600
TZNAME:CST
DTSTART:20181104T070000
END:STANDARD
BEGIN:DAYLIGHT
TZOFFSETFROM:-0600
TZOFFSETTO:-0500
TZNAME:CDT
DTSTART:20190310T080000
END:DAYLIGHT
BEGIN:STANDARD
TZOFFSETFROM:-0500
TZOFFSETTO:-0600
TZNAME:CST
DTSTART:20191103T070000
END:STANDARD
BEGIN:DAYLIGHT
TZOFFSETFROM:-0600
TZOFFSETTO:-0500
TZNAME:CDT
DTSTART:20200308T080000
END:DAYLIGHT
BEGIN:STANDARD
TZOFFSETFROM:-0500
TZOFFSETTO:-0600
TZNAME:CST
DTSTART:20201101T070000
END:STANDARD
END:VTIMEZONE
BEGIN:VEVENT
DTSTART;TZID=America/Chicago:20191020T100000
DTEND;TZID=America/Chicago:20191020T150000
DTSTAMP:20260424T215135
CREATED:20191007T133118Z
LAST-MODIFIED:20191014T133452Z
UID:3223-1571565600-1571583600@thyword.media
SUMMARY:Lancaster Church of Christ 177th Anniversary
DESCRIPTION:Lancaster Church of Christ\, in Lancaster\, will be celebrating it’s 177th anniversary. Evangelist Kevin Ziegler will be speaking at 10 AM and 1PM. The McDaniel Family from McLeansboro will be bringing the music. There will be a potluck and fellowship at noon. All are invited. For more information call 618-299-6871.
URL:https://thyword.media/event/lancaster-church-of-christ-177th-anniversary/
LOCATION:Lancaster Church of Christ\, 6284 Highway 11\, Lancaster\, IL\, 62863\, United States
GEO:31.1105445;-89.4109631
X-APPLE-STRUCTURED-LOCATION;VALUE=URI;X-ADDRESS=Lancaster Church of Christ 6284 Highway 11 Lancaster IL 62863 United States;X-APPLE-RADIUS=500;X-TITLE=6284 Highway 11:geo:-89.4109631,31.1105445
END:VEVENT
BEGIN:VEVENT
DTSTART;TZID=America/Chicago:20191020T170000
DTEND;TZID=America/Chicago:20191020T183000
DTSTAMP:20260424T215135
CREATED:20191010T191120Z
LAST-MODIFIED:20191010T191120Z
UID:3232-1571590800-1571596200@thyword.media
SUMMARY:5th Annual South Indiana Gospel Music Association Homecoming Gospel Sing
DESCRIPTION:On October 20th\, from 5PM to 6:30 PM there will be the 5th Annual South Western Indiana Gospel Music Association Homecoming Gospel Sing.This will be held at St. Matthew Church of Lynnville\, IN\, Artisits singing are 4 His Praise Trio\, The Andersons\, The Wilson Family\, Allen Houchins\, and Homeland.
URL:https://thyword.media/event/5th-annual-south-indiana-gospel-music-association-homecoming-gospel-sing/
LOCATION:St. Matthews Church of Lynnville\, 3044 Sommerville Rd\, Lynnville\, IN\, 47619\, United States
GEO:38.2320325;-87.2993221
X-APPLE-STRUCTURED-LOCATION;VALUE=URI;X-ADDRESS=St. Matthews Church of Lynnville 3044 Sommerville Rd Lynnville IN 47619 United States;X-APPLE-RADIUS=500;X-TITLE=3044 Sommerville Rd:geo:-87.2993221,38.2320325
END:VEVENT
BEGIN:VEVENT
DTSTART;TZID=America/Chicago:20191020T180000
DTEND;TZID=America/Chicago:20191020T180000
DTSTAMP:20260424T215135
CREATED:20191016T180613Z
LAST-MODIFIED:20191016T180613Z
UID:3252-1571594400-1571594400@thyword.media
SUMMARY:Conquerors in Concert
DESCRIPTION:The Conquerors will be in concert at the Church of the Cross located at 7525 North Green River Road in Evansville\, IN. The concert will begin at 6PM.
URL:https://thyword.media/event/conquerors-in-concert/
LOCATION:Church of the Cross\, 7525 N Green River Rd\, Evansville\, IN
GEO:38.046322;-87.489165
X-APPLE-STRUCTURED-LOCATION;VALUE=URI;X-ADDRESS=Church of the Cross 7525 N Green River Rd Evansville IN;X-APPLE-RADIUS=500;X-TITLE=7525 N Green River Rd:geo:-87.489165,38.046322
END:VEVENT
END:VCALENDAR