BEGIN:VCALENDAR
VERSION:2.0
PRODID:-//Thy Word Network - ECPv6.15.20//NONSGML v1.0//EN
CALSCALE:GREGORIAN
METHOD:PUBLISH
X-ORIGINAL-URL:https://thyword.media
X-WR-CALDESC:Events for Thy Word Network
REFRESH-INTERVAL;VALUE=DURATION:PT1H
X-Robots-Tag:noindex
X-PUBLISHED-TTL:PT1H
BEGIN:VTIMEZONE
TZID:America/Chicago
BEGIN:DAYLIGHT
TZOFFSETFROM:-0600
TZOFFSETTO:-0500
TZNAME:CDT
DTSTART:20180311T080000
END:DAYLIGHT
BEGIN:STANDARD
TZOFFSETFROM:-0500
TZOFFSETTO:-0600
TZNAME:CST
DTSTART:20181104T070000
END:STANDARD
BEGIN:DAYLIGHT
TZOFFSETFROM:-0600
TZOFFSETTO:-0500
TZNAME:CDT
DTSTART:20190310T080000
END:DAYLIGHT
BEGIN:STANDARD
TZOFFSETFROM:-0500
TZOFFSETTO:-0600
TZNAME:CST
DTSTART:20191103T070000
END:STANDARD
BEGIN:DAYLIGHT
TZOFFSETFROM:-0600
TZOFFSETTO:-0500
TZNAME:CDT
DTSTART:20200308T080000
END:DAYLIGHT
BEGIN:STANDARD
TZOFFSETFROM:-0500
TZOFFSETTO:-0600
TZNAME:CST
DTSTART:20201101T070000
END:STANDARD
END:VTIMEZONE
BEGIN:VTIMEZONE
TZID:America/New_York
BEGIN:DAYLIGHT
TZOFFSETFROM:-0500
TZOFFSETTO:-0400
TZNAME:EDT
DTSTART:20180311T070000
END:DAYLIGHT
BEGIN:STANDARD
TZOFFSETFROM:-0400
TZOFFSETTO:-0500
TZNAME:EST
DTSTART:20181104T060000
END:STANDARD
BEGIN:DAYLIGHT
TZOFFSETFROM:-0500
TZOFFSETTO:-0400
TZNAME:EDT
DTSTART:20190310T070000
END:DAYLIGHT
BEGIN:STANDARD
TZOFFSETFROM:-0400
TZOFFSETTO:-0500
TZNAME:EST
DTSTART:20191103T060000
END:STANDARD
BEGIN:DAYLIGHT
TZOFFSETFROM:-0500
TZOFFSETTO:-0400
TZNAME:EDT
DTSTART:20200308T070000
END:DAYLIGHT
BEGIN:STANDARD
TZOFFSETFROM:-0400
TZOFFSETTO:-0500
TZNAME:EST
DTSTART:20201101T060000
END:STANDARD
END:VTIMEZONE
BEGIN:VEVENT
DTSTART;TZID=America/Chicago:20191019T080000
DTEND;TZID=America/Chicago:20191019T170000
DTSTAMP:20260424T215139
CREATED:20191001T184727Z
LAST-MODIFIED:20191001T184727Z
UID:3184-1571472000-1571504400@thyword.media
SUMMARY:5 K Run /Walk
DESCRIPTION:The Pregnancy care Center of Washington will be hosting a 5K. Come out and walk or run to support a great cause. You can also sponsor someone if you do not want to walk. You can register online at\n https://forms.gle/eHzjC8XswzJvw3d29. Registration begins at 8:00 AM at the Kiwanas building at the East Side park in Washington\, IN. Cost is $30 for adults and $15 for children 12 and under. For more information call 812-257-1041.
URL:https://thyword.media/event/5-k-run-walk/
LOCATION:East Side Park\, Washington\, IN
END:VEVENT
BEGIN:VEVENT
DTSTART;TZID=America/Chicago:20191019T100000
DTEND;TZID=America/Chicago:20191019T153000
DTSTAMP:20260424T215139
CREATED:20191001T182028Z
LAST-MODIFIED:20191001T182028Z
UID:3179-1571479200-1571499000@thyword.media
SUMMARY:"Train Up" Parenting Seminar
DESCRIPTION:The Presbyterian Church will be offering “Train Up”\, a free interactive parenting seminar from 10 AM – 3:30 PM. Child care will be provided for 4th grade and under. Lunch will be provided. RSVP by October 10th by emailing your name and phone number to SpiritWd@Frontier.com or call 618-378-3052.
URL:https://thyword.media/event/train-up-parenting-seminar/
LOCATION:Presbyterian Church Carmi\, IL\, 310 N 1st Street\, Carmi\, IL\, 62821\, United States
GEO:38.0921299;-88.1528942
X-APPLE-STRUCTURED-LOCATION;VALUE=URI;X-ADDRESS=Presbyterian Church Carmi IL 310 N 1st Street Carmi IL 62821 United States;X-APPLE-RADIUS=500;X-TITLE=310 N 1st Street:geo:-88.1528942,38.0921299
END:VEVENT
BEGIN:VEVENT
DTSTART;TZID=America/New_York:20191019T140000
DTEND;TZID=America/New_York:20191019T140000
DTSTAMP:20260424T215139
CREATED:20191010T190218Z
LAST-MODIFIED:20191010T190218Z
UID:3227-1571493600-1571493600@thyword.media
SUMMARY:Oxana Eliahu testimony
DESCRIPTION:On October the 19th\, 2PM\, Beit Israel will host Oxana Elahu\, a born again Russian Jew; she will be  presenting her testimony and musical skills from her journey as an atheist Russian Jew to a born again believer in Jesus\,at the Free Methodist Church. For more information call 812-985-2698 or 812-270-2772. There will be a love offering taken.
URL:https://thyword.media/event/oxana-eliahu-testimony/
LOCATION:Free Methodist Church\, 1423 N Fourth St\, Vincennes\, IN\, 47591\, United States
GEO:38.6851199;-87.5165279
X-APPLE-STRUCTURED-LOCATION;VALUE=URI;X-ADDRESS=Free Methodist Church 1423 N Fourth St Vincennes IN 47591 United States;X-APPLE-RADIUS=500;X-TITLE=1423 N Fourth St:geo:-87.5165279,38.6851199
END:VEVENT
END:VCALENDAR