BEGIN:VCALENDAR
VERSION:2.0
PRODID:-//Thy Word Network - ECPv6.15.20//NONSGML v1.0//EN
CALSCALE:GREGORIAN
METHOD:PUBLISH
X-ORIGINAL-URL:https://thyword.media
X-WR-CALDESC:Events for Thy Word Network
REFRESH-INTERVAL;VALUE=DURATION:PT1H
X-Robots-Tag:noindex
X-PUBLISHED-TTL:PT1H
BEGIN:VTIMEZONE
TZID:America/Chicago
BEGIN:DAYLIGHT
TZOFFSETFROM:-0600
TZOFFSETTO:-0500
TZNAME:CDT
DTSTART:20180311T080000
END:DAYLIGHT
BEGIN:STANDARD
TZOFFSETFROM:-0500
TZOFFSETTO:-0600
TZNAME:CST
DTSTART:20181104T070000
END:STANDARD
BEGIN:DAYLIGHT
TZOFFSETFROM:-0600
TZOFFSETTO:-0500
TZNAME:CDT
DTSTART:20190310T080000
END:DAYLIGHT
BEGIN:STANDARD
TZOFFSETFROM:-0500
TZOFFSETTO:-0600
TZNAME:CST
DTSTART:20191103T070000
END:STANDARD
BEGIN:DAYLIGHT
TZOFFSETFROM:-0600
TZOFFSETTO:-0500
TZNAME:CDT
DTSTART:20200308T080000
END:DAYLIGHT
BEGIN:STANDARD
TZOFFSETFROM:-0500
TZOFFSETTO:-0600
TZNAME:CST
DTSTART:20201101T070000
END:STANDARD
END:VTIMEZONE
BEGIN:VEVENT
DTSTART;TZID=America/Chicago:20191013T090000
DTEND;TZID=America/Chicago:20191013T170000
DTSTAMP:20260424T215140
CREATED:20191001T180504Z
LAST-MODIFIED:20191001T180504Z
UID:3176-1570957200-1570986000@thyword.media
SUMMARY:Centennial Celebration
DESCRIPTION:Mackey Church of the Nazarene will be celebrating 100 years as a local church. A meet and greet time will be from 9:00AM -9:45AM with former Pastors and associates and families. Service time is at 10:00 AM followed by an all church carry-in dinner and a concert at 2:00 PM with Lindsey Huggins. Everyone is invited to attend this special occasion.
URL:https://thyword.media/event/centennial-celebration/
LOCATION:Mackey Church of the Nazarene\, 9612 E Main St\, Mackey\, IN
GEO:38.2526486;-87.38996
X-APPLE-STRUCTURED-LOCATION;VALUE=URI;X-ADDRESS=Mackey Church of the Nazarene 9612 E Main St Mackey IN;X-APPLE-RADIUS=500;X-TITLE=9612 E Main St:geo:-87.38996,38.2526486
END:VEVENT
BEGIN:VEVENT
DTSTART;TZID=America/Chicago:20191013T103000
DTEND;TZID=America/Chicago:20191013T103000
DTSTAMP:20260424T215140
CREATED:20190923T193311Z
LAST-MODIFIED:20190923T193311Z
UID:3166-1570962600-1570962600@thyword.media
SUMMARY:Homecoming Service
DESCRIPTION:South Friendship Church of Boonville\, IN will be having a Homecoming service on Sunday October 13th. Brother Cliff Clark will be speaking at 10:30 and the Wilson’s will be singing at 1:00 PM. A luncheon will be served at noon.  For more information the phone contact is 812-686-8250.
URL:https://thyword.media/event/homecoming-service/
LOCATION:South Friendship Church\, 3122 Folz Road\, Boonville\, IN\, 47601\, United States
GEO:37.9881051;-87.3125295
X-APPLE-STRUCTURED-LOCATION;VALUE=URI;X-ADDRESS=South Friendship Church 3122 Folz Road Boonville IN 47601 United States;X-APPLE-RADIUS=500;X-TITLE=3122 Folz Road:geo:-87.3125295,37.9881051
END:VEVENT
END:VCALENDAR