BEGIN:VCALENDAR
VERSION:2.0
PRODID:-//Thy Word Network - ECPv6.15.20//NONSGML v1.0//EN
CALSCALE:GREGORIAN
METHOD:PUBLISH
X-ORIGINAL-URL:https://thyword.media
X-WR-CALDESC:Events for Thy Word Network
REFRESH-INTERVAL;VALUE=DURATION:PT1H
X-Robots-Tag:noindex
X-PUBLISHED-TTL:PT1H
BEGIN:VTIMEZONE
TZID:America/Chicago
BEGIN:DAYLIGHT
TZOFFSETFROM:-0600
TZOFFSETTO:-0500
TZNAME:CDT
DTSTART:20170312T080000
END:DAYLIGHT
BEGIN:STANDARD
TZOFFSETFROM:-0500
TZOFFSETTO:-0600
TZNAME:CST
DTSTART:20171105T070000
END:STANDARD
BEGIN:DAYLIGHT
TZOFFSETFROM:-0600
TZOFFSETTO:-0500
TZNAME:CDT
DTSTART:20180311T080000
END:DAYLIGHT
BEGIN:STANDARD
TZOFFSETFROM:-0500
TZOFFSETTO:-0600
TZNAME:CST
DTSTART:20181104T070000
END:STANDARD
BEGIN:DAYLIGHT
TZOFFSETFROM:-0600
TZOFFSETTO:-0500
TZNAME:CDT
DTSTART:20190310T080000
END:DAYLIGHT
BEGIN:STANDARD
TZOFFSETFROM:-0500
TZOFFSETTO:-0600
TZNAME:CST
DTSTART:20191103T070000
END:STANDARD
END:VTIMEZONE
BEGIN:VEVENT
DTSTART;TZID=America/Chicago:20180518T150000
DTEND;TZID=America/Chicago:20180518T180000
DTSTAMP:20260420T143042
CREATED:20180510T160814Z
LAST-MODIFIED:20180510T161244Z
UID:1602-1526655600-1526666400@thyword.media
SUMMARY:Church Rummage Sale
DESCRIPTION:Heartland Worship Center is having a Rummage Sale on Friday\, May 18th from 3:00 to 6:00 p.m. and Saturday\, May 19th from 8:00 a.m. until 1:00 p.m.  All proceeds will go to missions.
URL:https://thyword.media/event/church-rummage-sale/2018-05-18/
LOCATION:Heartland Worship Center\, 211 W Second St\, Mt Carmel\, IL\, 62821
GEO:38.4063604;-87.7612182
X-APPLE-STRUCTURED-LOCATION;VALUE=URI;X-ADDRESS=Heartland Worship Center 211 W Second St Mt Carmel IL 62821;X-APPLE-RADIUS=500;X-TITLE=211 W Second St:geo:-87.7612182,38.4063604
END:VEVENT
END:VCALENDAR